BEGIN:VCALENDAR
VERSION:2.0
PRODID:-//Consumers of Mental Health WA - ECPv4.6.23//NONSGML v1.0//EN
CALSCALE:GREGORIAN
METHOD:PUBLISH
X-WR-CALNAME:Consumers of Mental Health WA
X-ORIGINAL-URL:http://www.comhwa.org.au
X-WR-CALDESC:Events for Consumers of Mental Health WA
BEGIN:VEVENT
DTSTART;TZID=Australia/Perth:20200305T100000
DTEND;TZID=Australia/Perth:20200305T123000
DTSTAMP:20200229T023652
CREATED:20200121T050323Z
LAST-MODIFIED:20200121T050323Z
UID:5633-1583402400-1583411400@www.comhwa.org.au
SUMMARY:WA Peer Supporters' Network Meeting - March
DESCRIPTION:Free education and group supervision to build skills\, sustain and thrive in your peer support role. For anyone with an interest in learning about peer support and developing peer work practice skills. \n
URL:http://www.comhwa.org.au/event/wa-peer-supporters-network-meeting-march/
LOCATION:Claisebrook Lotteries House\, 33 Moore Street\, East Perth
ORGANIZER;CN="WA%20Peer%20Support%20Network":MAILTO:info@peersupportwa.org.au
END:VEVENT
END:VCALENDAR